BEGIN:VCALENDAR
VERSION:2.0
PRODID:-//ChamberMaster//Event Calendar 2.0//EN
METHOD:PUBLISH
X-PUBLISHED-TTL:P3D
REFRESH-INTERVAL:P3D
CALSCALE:GREGORIAN
BEGIN:VEVENT
DTSTART:20190509T220000Z
DTEND:20190509T230000Z
X-MICROSOFT-CDO-ALLDAYEVENT:FALSE
SUMMARY:YIPs Educational Event: Tour of 1859 Jail & Marshal's Home
DESCRIPTION:The Young Independence Professionals have planned a private tour of the 1859 Jail and Marshal's Home on the Historic Independence Square. This tourist attraction is a unique piece of history on the Independence Square. Please meet at the Jail and Marshal's Home at 5pm! Thank you to the Jackson County Historic Society for making this event happen.
X-ALT-DESC;FMTTYPE=text/html:The Young Independence Professionals have planned a private tour of the 1859 Jail and Marshal&#39\;s Home on the Historic Independence Square. This tourist attraction is a unique piece of history on the Independence Square. Please meet at the Jail and Marshal&#39\;s Home at 5pm! Thank you to the Jackson County Historic Society for making this event happen.&nbsp\;
LOCATION:217 N Main St\, Independence\, MO 64050
UID:e.2043.9495
SEQUENCE:3
DTSTAMP:20260424T224020Z
URL:https://business.ichamber.biz/events/details/yips-educational-event-tour-of-1859-jail-marshal-s-home-9495
END:VEVENT

END:VCALENDAR
