BEGIN:VCALENDAR
VERSION:2.0
PRODID:-//ChamberMaster//Event Calendar 2.0//EN
METHOD:PUBLISH
X-PUBLISHED-TTL:P3D
REFRESH-INTERVAL:P3D
CALSCALE:GREGORIAN
BEGIN:VEVENT
DTSTART:20190415T213000Z
DTEND:20190415T233000Z
X-MICROSOFT-CDO-ALLDAYEVENT:FALSE
SUMMARY:YIPs Happy Hour at 3 Trails Brewing Co.
DESCRIPTION:In April\, the Young Independence Professionals are hosting a happy hour at the newest brewery in town\, 3 Trails Brewing Co. on the Square! All ages are welcome to attend this free event.
X-ALT-DESC;FMTTYPE=text/html:In April\, the Young Independence Professionals are hosting a happy hour at the newest brewery in town\, 3 Trails Brewing Co. on the Square! All ages are welcome to attend this free event.&nbsp\;
LOCATION:111 N Main St Independence\, Missouri
UID:e.2043.9493
SEQUENCE:3
DTSTAMP:20260424T211734Z
URL:https://business.ichamber.biz/events/details/yips-happy-hour-at-3-trails-brewing-co-9493
END:VEVENT

END:VCALENDAR
