BEGIN:VCALENDAR
VERSION:2.0
PRODID:-//ChamberMaster//Event Calendar 2.0//EN
METHOD:PUBLISH
X-PUBLISHED-TTL:P3D
REFRESH-INTERVAL:P3D
CALSCALE:GREGORIAN
BEGIN:VEVENT
DTSTART:20220922T163000Z
DTEND:20220922T173000Z
X-MICROSOFT-CDO-ALLDAYEVENT:FALSE
SUMMARY:YIPs Lunch & Learn
DESCRIPTION:Join us for a YIPs Lunch & Learn! We will be visiting the Ennovation Center to learn more about the businesses starting up right here in Independence. Lunch will be provided by Westside Cafe.
X-ALT-DESC;FMTTYPE=text/html:Join us for a YIPs Lunch &amp\; Learn! We will be visiting the Ennovation Center to learn more about the businesses starting up right here in Independence. Lunch will be provided by Westside Cafe.
LOCATION:Ennovation Center 201 N Forest Ave #120\, Independence\, MO 64050
UID:e.2043.14360
SEQUENCE:3
DTSTAMP:20260421T173516Z
URL:https://business.ichamber.biz/events/details/yips-lunch-learn-14360
END:VEVENT

END:VCALENDAR
