BEGIN:VCALENDAR
VERSION:2.0
PRODID:-//ChamberMaster//Event Calendar 2.0//EN
METHOD:PUBLISH
X-PUBLISHED-TTL:P3D
REFRESH-INTERVAL:P3D
CALSCALE:GREGORIAN
BEGIN:VEVENT
DTSTART:20180517T220000Z
DTEND:20180517T233000Z
X-MICROSOFT-CDO-ALLDAYEVENT:FALSE
SUMMARY:YIPs Volleyball Tournament & After-Hours Networking
DESCRIPTION:We hope you can join us at our Young Independence Professionals (YIPs) Volleyball Tourney & After-Hours Networking! This is a joint event with the Blue Springs Chamber of Commerce! \n\n\n\nDetails:\n\n1. You may register individually or register a full team of 6 (if you register for just you\, you will be placed on a team of 6). \n\n2. Begins at 5:00 pm \n\n3. Alcohol will be provided\, but there is also a bar on site
X-ALT-DESC;FMTTYPE=text/html:<span style="font-size:14px\;"><span style="font-family:arial\;">We hope you can join&nbsp\;us at our Young Independence Professionals (YIPs) Volleyball&nbsp\;Tourney &amp\; After-Hours Networking! This is a joint event with the Blue Springs Chamber of Commerce!&nbsp\;<br />\n<br />\nDetails:<br />\n1. You may register individually or register a full team of 6 (if you register for just you\, you will be placed on a team of 6).&nbsp\;<br />\n2. Begins at 5:00 pm&nbsp\;<br />\n3. Alcohol will be provided\, but there is also a bar on site</span></span>
LOCATION:Centerline Beach Volleyball & Pavillion 1910 SE US Highway 40 Blue Springs\, MO 64014
UID:e.2043.7288
SEQUENCE:3
DTSTAMP:20260424T065728Z
URL:https://business.ichamber.biz/events/details/yips-volleyball-tournament-after-hours-networking-7288
END:VEVENT

END:VCALENDAR
