BEGIN:VCALENDAR
VERSION:2.0
PRODID:-//ChamberMaster//Event Calendar 2.0//EN
METHOD:PUBLISH
X-PUBLISHED-TTL:P3D
REFRESH-INTERVAL:P3D
CALSCALE:GREGORIAN
BEGIN:VEVENT
DTSTART:20181108T230000Z
DTEND:20181109T010000Z
X-MICROSOFT-CDO-ALLDAYEVENT:FALSE
SUMMARY:YIPs Volunteering at Drumm Farm Center for Children
DESCRIPTION:We hope you can help us volunteer on Thursday\, November 8th from 5:00 - 7:00 pm at Drumm Farm Center for Children!We will be helping them decorate their facility for the holidays and anything else they may need.\n\n*Drinks & food will be provided\n\n\n\nTo learn more about Drumm Farm\, click the link below:\n\nhttp://www.drummforkids.org/\n\n\n\nIf  you cannot attend\, please consider making a donation at http://www.drummforkids.org/donate/ and put in the comments section that you are with the Young Independence Professionals
X-ALT-DESC;FMTTYPE=text/html:<span style="font-size:14px\;"><span style="font-family:arial\;">We hope you can help us volunteer on Thursday\, November 8th from 5:00 - 7:00 pm at Drumm Farm Center for Children!We will be helping them decorate their facility for the holidays and anything else they may need.<br />\n*Drinks &amp\; food will be provided<br />\n<br />\nTo learn more about Drumm Farm\, click the link below:<br />\nhttp://www.drummforkids.org/<br />\n<br />\nIf&nbsp\; you cannot attend\, please consider making a donation at <a href="http://www.drummforkids.org/donate/">http://www.drummforkids.org/donate/</a> and put in the comments section that you are with the Young Independence Professionals</span></span><br />\n&nbsp\;
LOCATION:Drumm Farm Center for Children Swinney Hall 3210 S. Lee's Summit Rd. Independence\, MO 64055
UID:e.2043.8429
SEQUENCE:3
DTSTAMP:20260424T144146Z
URL:https://business.ichamber.biz/events/details/yips-volunteering-at-drumm-farm-center-for-children-8429
END:VEVENT

END:VCALENDAR
