BEGIN:VCALENDAR
VERSION:2.0
PRODID:-//ChamberMaster//Event Calendar 2.0//EN
METHOD:PUBLISH
X-PUBLISHED-TTL:P3D
REFRESH-INTERVAL:P3D
CALSCALE:GREGORIAN
BEGIN:VEVENT
DTSTART:20180831T130000Z
DTEND:20180901T040000Z
X-MICROSOFT-CDO-ALLDAYEVENT:FALSE
SUMMARY:YIPs Volunteering at SCG
DESCRIPTION:ALL SLOTS ARE FILLED. THANK YOU ALL FOR DEDICATING YOUR VALUABLE TIME TO VOLUNTEER AT SCG. \n\n\n\nWe are needed to volunteer in Beer Garden 2 at Santa-Cali-Gon which is located in the Pharaoh Theater Parking Lot \n\n\n\n8:00 am - 11:00 am (2 volunteers needed)\n\n11-3pm (1 more volunteer needed)\n\n3-7 pm (1 more volunteer needed)\n\n7-11 pm (8 volunteers needed)\n\n\n\nGreat entertainment all day!\n\n\n\nIf you are available to volunteer at any of these times\, please let us know! Either post when you can volunteer on here\, email jgriffith@centralbankkc.com\, or call the chamber at 816.252.4745
X-ALT-DESC;FMTTYPE=text/html:<span style="font-size:16px\;"><strong><span style="color:#FF0000\;"><span style="font-family: Helvetica\, Arial\, sans-serif\;">ALL SLOTS ARE FILLED. THANK YOU ALL FOR DEDICATING YOUR VALUABLE TIME TO VOLUNTEER AT SCG. </span></span></strong></span><br />\n<br />\n<span style="color: rgb(29\, 33\, 41)\; font-family: Helvetica\, Arial\, sans-serif\; font-size: 14px\;">We are needed to volunteer in Beer Garden 2 at Santa-Cali-Gon which is located in the Pharaoh Theater Parking Lot&nbsp\;</span><br style="color: rgb(29\, 33\, 41)\; font-family: Helvetica\, Arial\, sans-serif\; font-size: 14px\;" />\n<br style="color: rgb(29\, 33\, 41)\; font-family: Helvetica\, Arial\, sans-serif\; font-size: 14px\;" />\n<span style="color: rgb(29\, 33\, 41)\; font-family: Helvetica\, Arial\, sans-serif\; font-size: 14px\;">8:00 am - 11:00 am (2 volunteers needed)<br />\n11-3pm (1 more volunteer needed)</span><br style="color: rgb(29\, 33\, 41)\; font-family: Helvetica\, Arial\, sans-serif\; font-size: 14px\;" />\n<span style="color: rgb(29\, 33\, 41)\; font-family: Helvetica\, Arial\, sans-serif\; font-size: 14px\;">3-7 pm (1 more volunteer needed)</span><br style="color: rgb(29\, 33\, 41)\; font-family: Helvetica\, Arial\, sans-serif\; font-size: 14px\;" />\n<span style="color: rgb(29\, 33\, 41)\; font-family: Helvetica\, Arial\, sans-serif\; font-size: 14px\;">7-11 pm (8 volunteers needed)</span><br style="color: rgb(29\, 33\, 41)\; font-family: Helvetica\, Arial\, sans-serif\; font-size: 14px\;" />\n<br style="color: rgb(29\, 33\, 41)\; font-family: Helvetica\, Arial\, sans-serif\; font-size: 14px\;" />\n<span style="color: rgb(29\, 33\, 41)\; font-family: Helvetica\, Arial\, sans-serif\; font-size: 14px\;">Great entertainment all day!</span><br style="color: rgb(29\, 33\, 41)\; font-family: Helvetica\, Arial\, sans-serif\; font-size: 14px\;" />\n<br style="color: rgb(29\, 33\, 41)\; font-family: Helvetica\, Arial\, sans-serif\; font-size: 14px\;" />\n<span style="color: rgb(29\, 33\, 41)\; font-family: Helvetica\, Arial\, sans-serif\; font-size: 14px\;">If you are available to volunteer at any of these times\, please let us know! Either post when you can volunteer on here\, email jgriffith@centralbankkc.com\, or call the chamber at 816.252.4745</span>
LOCATION:Historic Independence Square *Pharaoh Theater Parking Lot
UID:e.2043.8428
SEQUENCE:3
DTSTAMP:20260424T103514Z
URL:https://business.ichamber.biz/events/details/yips-volunteering-at-scg-8428
END:VEVENT

END:VCALENDAR
