BEGIN:VCALENDAR
VERSION:2.0
PRODID:-//ChamberMaster//Event Calendar 2.0//EN
METHOD:PUBLISH
X-PUBLISHED-TTL:P3D
REFRESH-INTERVAL:P3D
CALSCALE:GREGORIAN
BEGIN:VEVENT
DTSTART:20180420T233000Z
DTEND:20180421T020000Z
X-MICROSOFT-CDO-ALLDAYEVENT:FALSE
SUMMARY:Young Independence Professionals Murder Mystery Night Dinner
DESCRIPTION:We hope you can make it to our Murder Mystery Night! That's right...we need your help to solve the murder on the Petulant Express. \n\n\n\nThis evening will be interactive (that means audience members will play a part) and have a script\, but also will be improvisational (that means we don't really know what exactly will happen) and it will be funny (really funny). \n\n\n\nIt is 1937.  Aviator Amelia Earhart and her navigator disappear\, and Howard Hughes sets a new transcontinental airspeed record.  In Lakehurst\, New Jersey\, the German airship Hindenburg explodes in flames.\n\n\n\nThe Japanese have invaded China\, and Hitler is testing his Luftwaffe in Spain.  Civilian casualties mount in faraway places like Nanking and Guernica.  Many fear that war may soon spread throughout the globe.\n\n\n\nIn America\, the streamlined train known as The Petulant Express is a marvel of the age.  Owned by industrial giant Peter Petulant\, the train's regular journey between New York City and Chicago constantly attracted a passenger list of the rich and famous.  On this particular journey\, they all seemed to be irritated and angry.  Petulant himself was a passenger on the noteworthy trek\, occupying his plush Presidential Car.\n\n\n\nBut last night after a stop in Akron\, Ohio\, someone made a permanent alteration to the industrialist's career.  His body was found early this morning in his private car by a porter delivering his breakfast tray.  Petulant appeared to have died without a struggle\, the victim of an unexpected attack.\n\n\n\nWith a world poised on the brink of war\, who would dare trounce a titan of technology\, especially one with the foresight and connections of Petulant?  And where would the trail lead that would eventually end up at the feet of a killer?  Only effective sleuthing and expert investigative skills will dictate the answers.
X-ALT-DESC;FMTTYPE=text/html:<span style="color:#000000\;"><span style="font-size:14px\;"><span style="font-family:arial\;">We hope you can make it to our Murder Mystery Night! That&#39\;s right...we need your help to solve the murder on the Petulant Express.&nbsp\;<br />\n<br />\nThis evening will be interactive (that means audience members will play a part) and have a script\, but also&nbsp\;will be improvisational (that means we don&#39\;t really know what exactly will happen) and it will be funny (really funny).&nbsp\;<br />\n<br />\nIt is 1937.&nbsp\; Aviator Amelia Earhart and her navigator disappear\, and Howard Hughes sets a new transcontinental airspeed record.&nbsp\; In Lakehurst\, New Jersey\, the German airship Hindenburg explodes in flames.<br />\n<br />\nThe Japanese have invaded China\, and Hitler is testing his Luftwaffe in Spain.&nbsp\; Civilian casualties mount in faraway places like Nanking and Guernica.&nbsp\; Many fear that war may soon spread throughout the globe.<br />\n<br />\nIn America\, the streamlined train known as The Petulant Express is a marvel of the age.&nbsp\; Owned by industrial giant Peter Petulant\, the train&#39\;s regular journey between New York City and Chicago constantly attracted a passenger list of the rich and famous.&nbsp\; On this particular journey\, they all seemed to be irritated and angry.&nbsp\; Petulant himself was a passenger on the noteworthy trek\, occupying his plush Presidential Car.<br />\n<br />\nBut last night after a stop in Akron\, Ohio\, someone made a permanent alteration to the industrialist&#39\;s career.&nbsp\; His body was found early this morning in his private car by a porter delivering his breakfast tray.&nbsp\; Petulant appeared to have died without a struggle\, the victim of an unexpected attack.<br />\n<br />\nWith a world poised on the brink of war\, who would dare trounce a titan of technology\, especially one with the foresight and connections of Petulant?&nbsp\; And where would the trail lead that would eventually end up at the feet of a killer?&nbsp\; Only effective sleuthing and expert investigative skills will dictate the answers.</span></span></span><br />\n<br />\n&nbsp\;
LOCATION:The Silver Heart Inn 1114 S Noland Rd\, Independence\, MO 64050
UID:e.2043.6230
SEQUENCE:3
DTSTAMP:20260424T055314Z
URL:https://business.ichamber.biz/events/details/young-independence-professionals-murder-mystery-night-dinner-6230
END:VEVENT

END:VCALENDAR
