BEGIN:VCALENDAR
VERSION:2.0
PRODID:-//ChamberMaster//Event Calendar 2.0//EN
METHOD:PUBLISH
X-PUBLISHED-TTL:P3D
REFRESH-INTERVAL:P3D
CALSCALE:GREGORIAN
BEGIN:VEVENT
DTSTART:20170727T210000Z
DTEND:20170727T220000Z
X-MICROSOFT-CDO-ALLDAYEVENT:FALSE
SUMMARY:Young Professionals at Diamond Bowl
DESCRIPTION:Want to meet with other young professionals in Independence? Join us at Diamond Bowl for our kick-off on Thursday\, July 27th at 4:00 pm. We will talk about: \n\n	The name of the group\n	How often we want to meet\n	Age Range\n	What we would like to happen at each meeting and more\n\n\nIf you are interested in staying in the loop for events\, please fill out the Young Professionals Interest form below: \n\nhttp://business.ichamber.biz/form/view/10175
X-ALT-DESC;FMTTYPE=text/html:<span style="font-size:14px\;">Want to meet with other young professionals in Independence? Join us at Diamond&nbsp\;Bowl for our kick-off on Thursday\, July 27th at 4:00 pm.<span style="color:red\;"> </span>We will talk about: </span>\n<ul>\n	<li><span style="font-size:14px\;">The name of the group</span></li>\n	<li><span style="font-size:14px\;">How often we want to meet</span></li>\n	<li><span style="font-size:14px\;">Age Range</span></li>\n	<li><span style="font-size:14px\;">What we would like to happen at each meeting and more</span></li>\n</ul>\n\n<div style="text-align: center\;"><span style="font-size:14px\;"><span style="font-family:arial\;">If you are interested in staying in the loop for events\, please fill out the Young Professionals Interest form below:&nbsp\;</span></span></div>\n\n<div style="text-align: center\;"><a href="http://business.ichamber.biz/form/view/10175">http://business.ichamber.biz/form/view/10175</a><br />\n<br />\n&nbsp\;</div>\n<br />\n&nbsp\;
LOCATION:Diamond Bowl 218 N Osage St Independence\, MO 64050
UID:e.2043.4978
SEQUENCE:3
DTSTAMP:20260424T125856Z
URL:https://business.ichamber.biz/events/details/young-professionals-at-diamond-bowl-07-27-2017-4978
END:VEVENT

END:VCALENDAR
