BEGIN:VCALENDAR
VERSION:2.0
PRODID:-//ChamberMaster//Event Calendar 2.0//EN
METHOD:PUBLISH
X-PUBLISHED-TTL:P3D
REFRESH-INTERVAL:P3D
CALSCALE:GREGORIAN
BEGIN:VEVENT
DTSTART:20170824T210000Z
DTEND:20170824T230000Z
X-MICROSOFT-CDO-ALLDAYEVENT:FALSE
SUMMARY:Young Professionals at Saints Pub + Patio
DESCRIPTION:Want to meet other Young Professionals in our area? Join us at Saint's Pub + Patio on Thursday\, August 24th at 4:00!
X-ALT-DESC;FMTTYPE=text/html:Want to meet other Young Professionals in our area? Join us at Saint&#39\;s Pub + Patio on Thursday\, August 24th at 4:00!&nbsp\;
LOCATION:Saints Pub + Patio
UID:e.2043.5269
SEQUENCE:3
DTSTAMP:20260424T113349Z
URL:https://business.ichamber.biz/events/details/young-professionals-at-saints-pub-patio-08-24-2017-5269
END:VEVENT

END:VCALENDAR
