BEGIN:VCALENDAR
VERSION:2.0
PRODID:-//ChamberMaster//Event Calendar 2.0//EN
METHOD:PUBLISH
X-PUBLISHED-TTL:P3D
REFRESH-INTERVAL:P3D
CALSCALE:GREGORIAN
BEGIN:VEVENT
DTSTART:20171202T000000Z
DTEND:20171202T030000Z
X-MICROSOFT-CDO-ALLDAYEVENT:FALSE
SUMMARY:Young Professionals Holiday Party at the KC Mavericks
DESCRIPTION:Come enjoy the SUITE life for a night as the City of Independence graciously providing us with 2 suites for the game! \n\n\n\n*We will be RAFFLING off an Ice Box suite to an upcoming Mavericks game so make sure you bring your business card to participate!\n\n*If you have an ugly sweater\, wear it! \n\n\n\n Tickets are $20 \n\n*Includes ticket and food provided in the suite\n\n*Half of your $20 will go to a local charity and the other half will go to providing food for the suites\n\n\n\nRegister as quickly as this event will sell out!! Well\, go ahead! RSVP. What are you waiting for? \n\n\n\nOpen to anyone (yes\, that means bring your friends)! \n\n\n\nHope to see you there!
X-ALT-DESC;FMTTYPE=text/html:<div><span style="font-size:14px\;"><span style="font-family:arial\;">Come enjoy the SUITE life for a night as the City of Independence graciously providing us with 2 suites for the game!&nbsp\;<br />\n<br />\n*We will be RAFFLING off an Ice Box suite to an upcoming Mavericks game so make sure you bring your business card to participate!<br />\n*If you have an ugly&nbsp\;sweater\, wear it!&nbsp\;<br />\n<br />\n&nbsp\;Tickets are&nbsp\;</span></span>$20&nbsp\;<br />\n*Includes ticket and food provided in the suite<br />\n*Half of your $20 will go to a local charity and the other half will go to providing food for the suites<br />\n<br />\n<span style="font-family: arial\; font-size: 14px\;">Register as quickly as this event will sell out!!&nbsp\;Well\, go ahead! RSVP. What are you waiting for?&nbsp\;</span><br />\n<br />\n<span style="font-size:14px\;"><span style="font-family:arial\;"><span class="text_exposed_show" style="display: inline\;">Open to anyone (yes\, that means bring your friends)!&nbsp\;<br />\n<br />\nHope to see you there!</span></span></span></div>\n
LOCATION:Silverstein Eye Centers Arena 19100 E. Valley View Pkwy. Independence\, MO 64055
UID:e.2043.5338
SEQUENCE:3
DTSTAMP:20260424T055703Z
URL:https://business.ichamber.biz/events/details/young-professionals-holiday-party-at-the-kc-mavericks-12-01-2017-5338
END:VEVENT

END:VCALENDAR
