BEGIN:VCALENDAR
VERSION:2.0
PRODID:-//ChamberMaster//Event Calendar 2.0//EN
METHOD:PUBLISH
X-PUBLISHED-TTL:P3D
REFRESH-INTERVAL:P3D
CALSCALE:GREGORIAN
BEGIN:VEVENT
DTSTART:20180510T220000Z
DTEND:20180510T230000Z
X-MICROSOFT-CDO-ALLDAYEVENT:FALSE
SUMMARY:Young Professionals Networking & Wine Tasting at the Business Expo
DESCRIPTION:Come unwind at the end of your day and join us for a wine tasting & networking!\nAll attendees will enjoy samples of wine from area wineries. There will also be a cash bar.\n\n\n\n* We will be raffling off Royals Tickets & KC Phantoms tickets
X-ALT-DESC;FMTTYPE=text/html:<span style="font-size:14px\;">Come unwind at&nbsp\;the end of your day and join us for a wine tasting &amp\; networking!</span>\n<p style="color: rgb(51\, 51\, 51)\; font-family: sans-serif\, Arial\, Verdana\, 'Trebuchet MS'\; font-size: 13px\; line-height: 20.7999992370605px\;"><span style="font-size:14px\;">All attendees will enjoy&nbsp\;<span style="font-family: helvetica\, sans-serif\; letter-spacing: 0.533333px\;">samples of wine&nbsp\;from area wineries. There will also be a cash bar.</span></span><br />\n<br />\n* We will be raffling off Royals Tickets &amp\; KC Phantoms tickets&nbsp\;</p>\n
LOCATION:Stoney Creek Hotel 18001 Bass Pro Dr Independence\, MO 64055
UID:e.2043.6269
SEQUENCE:3
DTSTAMP:20260424T070542Z
URL:https://business.ichamber.biz/events/details/young-professionals-networking-wine-tasting-at-the-business-expo-6269
END:VEVENT

END:VCALENDAR
